BEGIN:VCALENDAR
VERSION:2.0
PRODID:-//eventon.com NONSGML v1.0//EN
CALSCALE:GREGORIAN
METHOD:PUBLISH
BEGIN:VEVENT
UID:69e73d8cb2452
DTSTAMP:20260421T090412Z
DTSTART:20240723T183000Z
DTEND:20240723T193000Z
LOCATION:
SUMMARY:Stockport Christian Spiritualist Church
DESCRIPTION:\nhttps://joanneholden.com/events/stockport-christian-spiritual
 ist-church-2/
URL:https://joanneholden.com/events/stockport-christian-spiritualist-church-2/
END:VEVENT
END:VCALENDAR