BEGIN:VCALENDAR
VERSION:2.0
PRODID:-//eventon.com NONSGML v1.0//EN
CALSCALE:GREGORIAN
METHOD:PUBLISH
BEGIN:VEVENT
UID:69e75299c8eb8
DTSTAMP:20260421T103401Z
DTSTART:20240609T173000Z
DTEND:20240609T184500Z
LOCATION:
SUMMARY:Chester Spiritualist Church
DESCRIPTION:\nhttps://joanneholden.com/events/chester-spiritualist-church-2
 /
URL:https://joanneholden.com/events/chester-spiritualist-church-2/
END:VEVENT
END:VCALENDAR